BEGIN:VCALENDAR
VERSION:2.0
PRODID:-//takingthereins.org - ECPv6.15.18//NONSGML v1.0//EN
CALSCALE:GREGORIAN
METHOD:PUBLISH
X-WR-CALNAME:takingthereins.org
X-ORIGINAL-URL:https://takingthereins.org
X-WR-CALDESC:Events for takingthereins.org
REFRESH-INTERVAL;VALUE=DURATION:PT1H
X-Robots-Tag:noindex
X-PUBLISHED-TTL:PT1H
BEGIN:VTIMEZONE
TZID:UTC
BEGIN:STANDARD
TZOFFSETFROM:+0000
TZOFFSETTO:+0000
TZNAME:UTC
DTSTART:20230101T000000
END:STANDARD
END:VTIMEZONE
BEGIN:VEVENT
DTSTART;TZID=UTC:20241215T100000
DTEND;TZID=UTC:20241215T150000
DTSTAMP:20260421T103240
CREATED:20241126T013208Z
LAST-MODIFIED:20241126T013317Z
UID:14136-1734256800-1734274800@takingthereins.org
SUMMARY:Session 2 - Environmental Science/Riding - Ages 6-9
DESCRIPTION:9:30am-10:00am – Arrival \n10am-12pm – Environmental Science \n12pm-1pm – Lunch & Free time \n1pm-3pm – Riding
URL:https://takingthereins.org/event/session-2-environmental-science-fiding/
CATEGORIES:Student Event
ATTACH;FMTTYPE=image/jpeg:https://takingthereins.org/wp-content/uploads/2024/05/Closeup-Girl-brushing-Max.jpg
END:VEVENT
END:VCALENDAR