BEGIN:VCALENDAR
VERSION:2.0
PRODID:-//takingthereins.org - ECPv6.15.18//NONSGML v1.0//EN
CALSCALE:GREGORIAN
METHOD:PUBLISH
X-WR-CALNAME:takingthereins.org
X-ORIGINAL-URL:https://takingthereins.org
X-WR-CALDESC:Events for takingthereins.org
REFRESH-INTERVAL;VALUE=DURATION:PT1H
X-Robots-Tag:noindex
X-PUBLISHED-TTL:PT1H
BEGIN:VTIMEZONE
TZID:UTC
BEGIN:STANDARD
TZOFFSETFROM:+0000
TZOFFSETTO:+0000
TZNAME:UTC
DTSTART:20230101T000000
END:STANDARD
END:VTIMEZONE
BEGIN:VEVENT
DTSTART;TZID=UTC:20241207T090000
DTEND;TZID=UTC:20241207T150000
DTSTAMP:20260421T091153
CREATED:20241126T011410Z
LAST-MODIFIED:20241126T011540Z
UID:14124-1733562000-1733583600@takingthereins.org
SUMMARY:Session 2 - Riding/Environmental Science Ages 10-18
DESCRIPTION:8:30am-9:00am – Arrival \n9am-12pm – Riding \n12pm-1pm – Lunch & Teamwork \n1pm-3pm – Environmental Science
URL:https://takingthereins.org/event/session-2-riding-environmental-science-ages-10-18/
CATEGORIES:Student Event
ATTACH;FMTTYPE=image/jpeg:https://takingthereins.org/wp-content/uploads/2024/05/Smiling-girl-with-bucket.jpg
END:VEVENT
BEGIN:VEVENT
DTSTART;TZID=UTC:20241207T100000
DTEND;TZID=UTC:20241207T120000
DTSTAMP:20260421T091153
CREATED:20240802T212807Z
LAST-MODIFIED:20241126T002012Z
UID:14035-1733565600-1733572800@takingthereins.org
SUMMARY:TTR Y.E.S. Workshop #4 - 8-10 grade session: What are your interests? - 11 grade session: Overview of Schools & 12 grade session: FAFSA
DESCRIPTION:8th-10th Grade – What are your interests? \n11th Grade – Overview of Schools & Session \n12th Grade – FAFSA
URL:https://takingthereins.org/event/twinspire-y-e-s-workshop-4-8-10-grade-session-what-are-your-interests-11-grade-overview-of-schools-12-grade-fafsa/
CATEGORIES:Student Event
END:VEVENT
BEGIN:VEVENT
DTSTART;TZID=UTC:20241207T100000
DTEND;TZID=UTC:20241207T160000
DTSTAMP:20260421T091153
CREATED:20241126T012422Z
LAST-MODIFIED:20241126T012422Z
UID:14127-1733565600-1733587200@takingthereins.org
SUMMARY:Session 2 - Environmental Science/Riding All Ages
DESCRIPTION:9:30am-10:00am – Arrival \n10am-12pm – Environmental Science \n12pm-1pm – Lunch & Teamwork \n1pm-4pm – Riding
URL:https://takingthereins.org/event/session-2-environmental-science-riding-all-ages/
CATEGORIES:Student Event
ATTACH;FMTTYPE=image/jpeg:https://takingthereins.org/wp-content/uploads/2024/05/Headshot-Girl-in-Helmet_2.jpg
END:VEVENT
BEGIN:VEVENT
DTSTART;TZID=UTC:20241208T100000
DTEND;TZID=UTC:20241208T150000
DTSTAMP:20260421T091153
CREATED:20241126T013028Z
LAST-MODIFIED:20241126T013400Z
UID:14134-1733652000-1733670000@takingthereins.org
SUMMARY:Session 2 - Environmental Science/Riding - Ages 6-9
DESCRIPTION:9:30am-10:00am – Arrival \n10am-12pm – Environmental Science \n12pm-1pm – Lunch & Teamwork \n1pm-3pm – Riding
URL:https://takingthereins.org/event/session-2-environmental-science-riding-ages-6-9/
CATEGORIES:Student Event
ATTACH;FMTTYPE=image/jpeg:https://takingthereins.org/wp-content/uploads/2024/05/Girls-standing-looking_4.jpg
END:VEVENT
BEGIN:VEVENT
DTSTART;TZID=UTC:20241214T090000
DTEND;TZID=UTC:20241214T150000
DTSTAMP:20260421T091153
CREATED:20241126T012817Z
LAST-MODIFIED:20241126T012817Z
UID:14131-1734166800-1734188400@takingthereins.org
SUMMARY:Session 2 - Riding/Environmental Science - Ages 10-18
DESCRIPTION:8:30am-9:00am – Arrival \n9am-12pm – Riding \n12pm-1pm – Lunch & Teamwork \n1pm-3pm – Environmental Science
URL:https://takingthereins.org/event/session-2-riding-environmental-science-ages-10-18-2/
CATEGORIES:Student Event
ATTACH;FMTTYPE=image/jpeg:https://takingthereins.org/wp-content/uploads/2024/05/Gunner.jpg
END:VEVENT
BEGIN:VEVENT
DTSTART;TZID=UTC:20241214T100000
DTEND;TZID=UTC:20241214T160000
DTSTAMP:20260421T091153
CREATED:20241126T012631Z
LAST-MODIFIED:20241126T012631Z
UID:14129-1734170400-1734192000@takingthereins.org
SUMMARY:Session 2 - Environmental Science/Riding All Ages
DESCRIPTION:9:30am-10:00am – Arrival \n10am-12pm – Environmental Science \n12pm-1pm – Lunch & Teamwork \n1pm-4pm – Riding
URL:https://takingthereins.org/event/session-2-environmental-science-riding-all-ages-2/
CATEGORIES:Student Event
ATTACH;FMTTYPE=image/jpeg:https://takingthereins.org/wp-content/uploads/2023/11/Media-9-2D0D1BCC-A66C-40FF-837F-E1B47EB32CC2-1-scaled.jpg
END:VEVENT
BEGIN:VEVENT
DTSTART;TZID=UTC:20241215T100000
DTEND;TZID=UTC:20241215T150000
DTSTAMP:20260421T091153
CREATED:20241126T013208Z
LAST-MODIFIED:20241126T013317Z
UID:14136-1734256800-1734274800@takingthereins.org
SUMMARY:Session 2 - Environmental Science/Riding - Ages 6-9
DESCRIPTION:9:30am-10:00am – Arrival \n10am-12pm – Environmental Science \n12pm-1pm – Lunch & Free time \n1pm-3pm – Riding
URL:https://takingthereins.org/event/session-2-environmental-science-fiding/
CATEGORIES:Student Event
ATTACH;FMTTYPE=image/jpeg:https://takingthereins.org/wp-content/uploads/2024/05/Closeup-Girl-brushing-Max.jpg
END:VEVENT
BEGIN:VEVENT
DTSTART;TZID=UTC:20241216T100000
DTEND;TZID=UTC:20241216T150000
DTSTAMP:20260421T091153
CREATED:20241126T003041Z
LAST-MODIFIED:20241126T003504Z
UID:14111-1734343200-1734361200@takingthereins.org
SUMMARY:Taking the Reins Winter Camp 10AM-3PM
DESCRIPTION:
URL:https://takingthereins.org/event/taking-the-reins-winter-camp-10am-3pm/
CATEGORIES:Student Event
ATTACH;FMTTYPE=image/png:https://takingthereins.org/wp-content/uploads/2024/11/Screenshot-2024-11-25-at-4.24.01-PM.png
END:VEVENT
BEGIN:VEVENT
DTSTART;TZID=UTC:20241217T100000
DTEND;TZID=UTC:20241217T150000
DTSTAMP:20260421T091153
CREATED:20241126T003746Z
LAST-MODIFIED:20241126T003746Z
UID:14116-1734429600-1734447600@takingthereins.org
SUMMARY:Taking the Reins Winter Camp 10AM-3PM
DESCRIPTION:
URL:https://takingthereins.org/event/taking-the-reins-winter-camp-10am-3pm-2/
CATEGORIES:Student Event
ATTACH;FMTTYPE=image/png:https://takingthereins.org/wp-content/uploads/2024/11/Screenshot-2024-11-25-at-4.24.01-PM.png
END:VEVENT
BEGIN:VEVENT
DTSTART;TZID=UTC:20241218T100000
DTEND;TZID=UTC:20241218T150000
DTSTAMP:20260421T091153
CREATED:20241126T003834Z
LAST-MODIFIED:20241126T003912Z
UID:14118-1734516000-1734534000@takingthereins.org
SUMMARY:Taking the Reins Winter Camp 10AM-3PM
DESCRIPTION:
URL:https://takingthereins.org/event/taking-the-reins-winter-camp-10am-3pm-3/
CATEGORIES:Student Event
ATTACH;FMTTYPE=image/png:https://takingthereins.org/wp-content/uploads/2024/11/Screenshot-2024-11-25-at-4.24.01-PM.png
END:VEVENT
BEGIN:VEVENT
DTSTART;TZID=UTC:20241219T100000
DTEND;TZID=UTC:20241219T150000
DTSTAMP:20260421T091153
CREATED:20241126T004124Z
LAST-MODIFIED:20241126T004124Z
UID:14120-1734602400-1734620400@takingthereins.org
SUMMARY:Taking the Reins Winter Camp 10AM-3PM
DESCRIPTION:
URL:https://takingthereins.org/event/taking-the-reins-winter-camp-10am-3pm-4/
CATEGORIES:Student Event
ATTACH;FMTTYPE=image/png:https://takingthereins.org/wp-content/uploads/2024/11/Screenshot-2024-11-25-at-4.24.01-PM.png
END:VEVENT
BEGIN:VEVENT
DTSTART;TZID=UTC:20241220T100000
DTEND;TZID=UTC:20241220T150000
DTSTAMP:20260421T091153
CREATED:20241126T004234Z
LAST-MODIFIED:20241126T004304Z
UID:14122-1734688800-1734706800@takingthereins.org
SUMMARY:Taking the Reins Winter Camp 10AM-3PM
DESCRIPTION:
URL:https://takingthereins.org/event/taking-the-reins-winter-camp-10am-3pm-5/
CATEGORIES:Student Event
ATTACH;FMTTYPE=image/png:https://takingthereins.org/wp-content/uploads/2024/11/Screenshot-2024-11-25-at-4.24.01-PM.png
END:VEVENT
BEGIN:VEVENT
DTSTART;VALUE=DATE:20241223
DTEND;VALUE=DATE:20241224
DTSTAMP:20260421T091153
CREATED:20241224T012146Z
LAST-MODIFIED:20241224T012146Z
UID:14150-1734912000-1734998399@takingthereins.org
SUMMARY:Semester 2 Spring Programs Registration Opens!
DESCRIPTION:Riding\, Garden\, Life Skills and Farm Animals – Ages 6-18 \nEach participant is limited to two sessions!
URL:https://takingthereins.org/event/semester-2-spring-programs-registration-opens/
CATEGORIES:Student Event
ATTACH;FMTTYPE=image/png:https://takingthereins.org/wp-content/uploads/2024/12/Screenshot-2024-12-23-at-5.19.37-PM.png
END:VEVENT
END:VCALENDAR